BEGIN:VCALENDAR
VERSION:2.0
PRODID:-//Mazury Zachodnie - ECPv6.15.20//NONSGML v1.0//EN
CALSCALE:GREGORIAN
METHOD:PUBLISH
X-WR-CALNAME:Mazury Zachodnie
X-ORIGINAL-URL:https://mazury-zachodnie.pl/en
X-WR-CALDESC:Events for Mazury Zachodnie
REFRESH-INTERVAL;VALUE=DURATION:PT1H
X-Robots-Tag:noindex
X-PUBLISHED-TTL:PT1H
BEGIN:VTIMEZONE
TZID:Europe/Warsaw
BEGIN:DAYLIGHT
TZOFFSETFROM:+0100
TZOFFSETTO:+0200
TZNAME:CEST
DTSTART:20250330T010000
END:DAYLIGHT
BEGIN:STANDARD
TZOFFSETFROM:+0200
TZOFFSETTO:+0100
TZNAME:CET
DTSTART:20251026T010000
END:STANDARD
BEGIN:DAYLIGHT
TZOFFSETFROM:+0100
TZOFFSETTO:+0200
TZNAME:CEST
DTSTART:20260329T010000
END:DAYLIGHT
BEGIN:STANDARD
TZOFFSETFROM:+0200
TZOFFSETTO:+0100
TZNAME:CET
DTSTART:20261025T010000
END:STANDARD
BEGIN:DAYLIGHT
TZOFFSETFROM:+0100
TZOFFSETTO:+0200
TZNAME:CEST
DTSTART:20270328T010000
END:DAYLIGHT
BEGIN:STANDARD
TZOFFSETFROM:+0200
TZOFFSETTO:+0100
TZNAME:CET
DTSTART:20271031T010000
END:STANDARD
END:VTIMEZONE
BEGIN:VEVENT
DTSTART;TZID=Europe/Warsaw:20260425T193000
DTEND;TZID=Europe/Warsaw:20260425T210000
DTSTAMP:20260421T174330
CREATED:20260417T064832Z
LAST-MODIFIED:20260417T064832Z
UID:10000709-1777145400-1777150800@mazury-zachodnie.pl
SUMMARY:Koncert SZTOF- Tawerna OSTRÓDA
DESCRIPTION:Koncert promujący drugą płytę zespołu!Sztof to laureaci festiwali Las Woda i Blues 2023\, Blues nad Odrą 2023\, Kapusta z Bluesem 2024\, oraz finaliści Rawa Blues Festiwal 2024.Ich muzyka to konkretna dawka autorskiego bluesa\, rocka oraz country. Po połączeniu tych gatunków ze stylem i energią sceniczną muzyków otrzymamy southern rocka w polskim wydaniu.W marcu 2023 wydali swój pierwszy album „Najważniejsze rzeczy”. Z kolei premiera drugiej płyty to listopad 2025.Zespół pochodzi z Mazur\, a jego nazwa w tamtejszej gwarze oznacza kwartę wódki. Sztof od ponad dekady występuje na scenach w całej Polsce prezentując swój osobisty\, wypracowany styl zainspirowany południem USA\, zdobywając tym samym co raz większe uznanie wśród publiczności. Udowadniają\, że granie autorskiej muzyki ma sens i daje spełnienie\, co potwierdzają kolejnymi udanymi koncertami.
URL:https://mazury-zachodnie.pl/en/wydarzenie/koncert-sztof-tawerna-ostroda/
LOCATION:Restauracja TAWERNA\, ul. Mickiewicza 21\, Ostróda\, 14-100\, Poland
CATEGORIES:Koncerty,spotkania
ATTACH;FMTTYPE=image/jpeg:https://mazury-zachodnie.pl/wp-content/uploads/2026/04/Sztof-OStroda-Tawerna.jpg
END:VEVENT
BEGIN:VEVENT
DTSTART;TZID=Europe/Warsaw:20260502T110000
DTEND;TZID=Europe/Warsaw:20260503T180000
DTSTAMP:20260421T174330
CREATED:20260420T063346Z
LAST-MODIFIED:20260420T063346Z
UID:10000710-1777719600-1777831200@mazury-zachodnie.pl
SUMMARY:Festiwal Kultury Tradycyjnej - POLA GRUNWALDU!
DESCRIPTION:Mamy nadzieję\, że czekali Państwo na tę informację z niecierpliwością!\n\n\nJuż 2–3 maja 2026 zapraszamy na rozśpiewany Grunwald\, a mianowicie Festiwal Kultury Tradycyjnej. Jedyne takie wydarzenie na Polach Grunwaldu- pełne muzyki\, tańca i barwnej kultury ludowej.\n\n\nTo kontynuacja ubiegłorocznych edycji Festiwalu Muzyki Ludowej i Folkowej\, który w tym roku zyskuje nową nazwę i poszerzoną formułę. Otwieramy się na jeszcze szersze spektrum kultury tradycyjnej. Od muzyki ludowej i etnicznej\, po formy wokalne i instrumentalne silnie zakorzenione w regionalnym dziedzictwie.\n\n\nNa scenie przed Muzeum Bitwy pod Grunwaldem podczas dwóch dni zaprezentuje się około 500 utalentowanych artystów z różnych regionów Polski. Zapowiada się prawdziwa muzyczna mozaika\, pełna śpiewu\, tańca i żywej\, autentycznej tradycji!\n\n\nW programie znajdą się koncerty\, pokazy tańców ludowych\, prezentacje tradycyjnych instrumentów\, a także strefa kulinarna z regionalnymi potrawami przygotowanymi przez Lokalne Koła Gospodyń Wiejskich oraz stoiska z rękodziełem i naturalnymi produktami \nNie zabraknie również dodatkowych atrakcji\, w tym pokazu strażackiego z elementami pierwszej pomocy oraz strefy zabaw!\n\n\nTo nie jest zwykły Festiwal. To klimat\, który trzeba poczuć na własnej skórze. Dwa dni muzyki\, piękne stroje i radość ze spotkania w miejscu\, gdzie historia spotyka się z żywą tradycją.\n\n\nDo zobaczenia na Grunwaldzie
URL:https://mazury-zachodnie.pl/en/wydarzenie/festiwal-kultury-tradycyjnej-pola-grunwaldu/
LOCATION:Muzeum Bitwy pod Grunwaldem\, Stębark 1\, Stębark\, Warmińsko-Mazurskie\, 14-107\, Poland
CATEGORIES:Festiwal,spotkania
ATTACH;FMTTYPE=image/jpeg:https://mazury-zachodnie.pl/wp-content/uploads/2026/04/grunwald-folk.jpg
END:VEVENT
BEGIN:VEVENT
DTSTART;TZID=Europe/Warsaw:20260509T110000
DTEND;TZID=Europe/Warsaw:20260509T150000
DTSTAMP:20260421T174330
CREATED:20260417T063055Z
LAST-MODIFIED:20260417T063055Z
UID:10000707-1778324400-1778338800@mazury-zachodnie.pl
SUMMARY:XXXVI Ostródzkie Biegi Uliczne
DESCRIPTION:🏃‍♂️ XXXVI Ostródzkie Biegi Uliczne – 10 km już wkrótce! 🏃‍♀️ \nJuż po raz 36. miłośnicy biegania spotkają się na ulicach Ostródy\, by wspólnie wziąć udział w wyjątkowym sportowym święcie! 🎉 XXXVI Ostródzkie Biegi Uliczne to wydarzenie\, które od lat przyciąga zarówno doświadczonych zawodników\, jak i amatorów aktywnego stylu życia. 💪 \n📅 W programie głównym znalazł się bieg na dystansie 10 km\, prowadzący malowniczą trasą przez serce miasta. To doskonała okazja\, by sprawdzić swoją formę\, pobić życiowy rekord lub po prostu cieszyć się sportową atmosferą w gronie pasjonatów biegania. 🏅 \n👨‍👩‍👧‍👦 Organizatorzy zadbali również o atrakcje dla kibiców i całych rodzin – nie zabraknie pozytywnej energii\, dopingu oraz dobrej zabawy! 🎶 \nOstróda ponownie stanie się miejscem spotkania ludzi z pasją – do ruchu\, zdrowia i rywalizacji w duchu fair play. 🤝 \nSerdecznie zapraszamy wszystkich chętnych do udziału oraz kibicowania! Do zobaczenia na starcie! \nZapisy: \nhttps://superczas.pl/memorialostroda/zapisy#main \n  \n  \nBiegi Uliczne coraz bliżej! \nZapraszamy także najmłodszych zawodników!\nBieg Przedszkolaka o Puchar Ostróda Recycling\nTo idealny moment\, żeby złapać sportową pasję\, poczuć adrenalinę startu i wpaść w świat biegania z uśmiechem od ucha do ucha\nNie są wymagane wcześniejsze zapisy – wszystkie szczegóły znajdziecie na plakacie\nBędzie energia\, radość i mnóstwo dobrej zabawy – widzimy się na starcie!\nDla wszystkich uczestników biegu przewidziane są medaleoraz drobne upominki 
URL:https://mazury-zachodnie.pl/en/wydarzenie/xxxvi-ostrodzkie-biegi-uliczne/
CATEGORIES:Konkursy,spotkania,Zawody
ATTACH;FMTTYPE=image/jpeg:https://mazury-zachodnie.pl/wp-content/uploads/2026/04/plakat-a2-memorial-XXXVI.jpg
END:VEVENT
BEGIN:VEVENT
DTSTART;TZID=Europe/Warsaw:20260517T160000
DTEND;TZID=Europe/Warsaw:20260517T200000
DTSTAMP:20260421T174330
CREATED:20260217T100449Z
LAST-MODIFIED:20260217T100449Z
UID:10000683-1779033600-1779048000@mazury-zachodnie.pl
SUMMARY:OSTRÓDA FOLK FESTIVAL
DESCRIPTION:OSTRÓDA FOLK FESTIVAL – Górale na Mazurach! \nJuż 17 maja 2026 (niedziela) Amfiteatr w Ostródzie zamieni się w tętniące życiem centrum góralskiej energii\, muzyki i tradycji! Zapraszamy na wyjątkowe święto folkloru\, podczas którego góralska kultura spotka się z mazurskim klimatem.\nNa scenie wystąpią topowe zespoły i artyści muzyki folkowej: BACIARYKORDIAN ZBÓJE CAPITAN FOLK\n Imprezę poprowadzą Big H oraz Capitan Folk\, gwarantując doskonałą atmosferę od pierwszych minut!\n Harmonogram:Otwarcie bram: 14:30Start Koncertów:16:00Przygotuj się na minimum 5 godzin śpiewu i zabawy!\n\n Na uczestników czeka:\nprofesjonalna strefa barowa i gastronomiczna\,\ngóralskie stoiska z pamiątkami i smakołykami\nmnóstwo atrakcji i niepowtarzalny klimat rodzinnego festiwalu.\n\n Bilety od 99 złDostępne online oraz w kasie Amfiteatru. Informacje: 663 804 515 Amfiteatr Ostródaul. Mickiewicza 17A\nNie przegap tego wydarzenia – spotkajmy się na Ostróda Folk Festival i poczujmy prawdziwą góralską moc!
URL:https://mazury-zachodnie.pl/en/wydarzenie/ostroda-folk-festival/
LOCATION:Amfiteatr w Ostródzie\, ul. Mickiewicza 17A\, Ostróda\, 14-100\, Poland
CATEGORIES:Festiwal,Koncerty,spotkania
ATTACH;FMTTYPE=image/jpeg:https://mazury-zachodnie.pl/wp-content/uploads/2026/02/GORALENVOLK.jpg
ORGANIZER;CN="Centrum Kultury w Ostr%C3%B3dzie":MAILTO:ck@ck.ostroda.pl
END:VEVENT
BEGIN:VEVENT
DTSTART;TZID=Europe/Warsaw:20260718T100000
DTEND;TZID=Europe/Warsaw:20260718T200000
DTSTAMP:20260421T174330
CREATED:20260319T120747Z
LAST-MODIFIED:20260319T120747Z
UID:10000701-1784368800-1784404800@mazury-zachodnie.pl
SUMMARY:Dni Grunwaldu | Inscenizacja Bitwy pod Grunwaldem 2026
DESCRIPTION:Serdecznie zapraszamy w sobotę 18 lipca 2026 r. do Grunwaldu na Dni Grunwaldu oraz Inscenizację Bitwy pod Grunwaldem 2026. \nInscenizacja Bitwy pod Grunwaldem w ramach obchodów Dni Grunwaldu\, będzie organizowana w sobotę 18 lipca 2026.\nWydarzenie jest częścią obchodów Dni Grunwaldu organizowanych przez Samorząd Województwa warmińsko-mazurskiego.\nSkupia ona miłośników odtwarzania historii i jest jednym z największych elementów wytworzonym przez środowiska „historyczne” na terenie naszego kraju.\nCelem tego zgromadzenia jest krzewienie historii\, odtwarzanie kultury\, tradycji oraz rzemiosła dawnego. Od 1998 roku spotyka się na polach pod Grunwaldem ponad 3000 miłośników średniowiecza z całego świata. \nGościliśmy już przedstawicieli z Niemiec\, Włoch\, Francji\, Finlandii\, Czech\, Słowacji\, Węgier\, Rosji\, Białorusi\, Ukrainy a nawet Stanów Zjednoczonych. \nCo roku stawiamy sobie nowe cele mające za zadanie zbliżenie nas do jak najwierniejszego odtwarzania historii. \nGłównym punktem spotkania jest inscenizacja bitwy z okazji rocznicy Bitwy pod Grunwaldem. Na pole wychodzi ponad 1400 rycerzy aby wziąć udział w największej plenerowej inscenizacji bitwy średniowiecznej na terenie naszego kraju. A wszystko to dzieje się na oczach ponad 100 tyś widzów. \nZapraszamy gorąco na Inscenizację Bitwy pod Grunwaldem. Dla uczestników wydarzenia przewidzianych jest wiele atrakcji.\nData wydarzenia: 18 lipca 2026 r.\n \nZapraszany na strony:\nwww.muzeum-grunwald.pl\nwww.facebook.com/grunwald/\nwww.grunwald1410.pl\nwww.facebook.com/Grunwald1410Inscenizacja\nwww.facebook.com/grunwald.koncerty/\nwww.grunwald-koncerty.pl\nwww.powiat.ostroda.pl\nwww.ostroda.pl\nwww.ck.ostroda.pl\nwww.facebook.com/Miasto-Ostróda/\nwww.facebook.com/ck.ostroda/\nwww.mazury-zachodnie.pl
URL:https://mazury-zachodnie.pl/en/wydarzenie/dni-grunwaldu-inscenizacja-bitwy-pod-grunwaldem-2026/
CATEGORIES:Obchody,spotkania
ATTACH;FMTTYPE=image/jpeg:https://mazury-zachodnie.pl/wp-content/uploads/2026/03/Grunwald_Muzeum_Bitwy_Pod_Grunwaldem_www_FB_1920x-1920x653-1.jpg
END:VEVENT
BEGIN:VEVENT
DTSTART;TZID=Europe/Warsaw:20260723T120000
DTEND;TZID=Europe/Warsaw:20260726T220000
DTSTAMP:20260421T174330
CREATED:20260319T114620Z
LAST-MODIFIED:20260319T114932Z
UID:10000700-1784808000-1785103200@mazury-zachodnie.pl
SUMMARY:25 edycja OSTRÓDA REGGAE FESTIVAL 2026!!!
DESCRIPTION:TRÓJKA I OSTRÓDA REGGAE FESTIVAL ŁĄCZĄ SIŁY!\n\n\n\n\nPo raz pierwszy w historii Ostróda Reggae Festival odbędzie się pod patronatem Programu 3 Polskiego Radia. \nNajwiększa polska impreza reggae i jeden z wiodących radiowych nadawców połączyły siły\, co przyniesie zwiększoną obecność reggae i festiwalu na antenie. W ramach współpracy z radiową Trójką będzie można zdobyć festiwalowe karnety\, usłyszeć promocyjny spot ORF czy śledzić relacje na żywo z trwającej imprezy.\nWierzymy\, że ta współpraca przyniesie obopólnie wiele korzyści. \nWyłącznym dystrybutorem biletów na Ostróda Reggae Festival będzie tradycyjnie firma eBilet. Bilety będą dostępne do zakupu online na ich platformie: www.ebilet.pl/muzyka/festiwale/ostroda-reggae-festival \nZapraszamy do Trójki! Do zobaczenia w Ostródzie.
URL:https://mazury-zachodnie.pl/en/wydarzenie/25-edycja-ostroda-reggae-festival-2026/
LOCATION:Amfiteatr w Ostródzie\, ul. Mickiewicza 17A\, Ostróda\, 14-100\, Poland
CATEGORIES:Festiwal,Koncerty,spotkania
ATTACH;FMTTYPE=image/jpeg:https://mazury-zachodnie.pl/wp-content/uploads/2026/03/rege-SREGE-II.jpg
END:VEVENT
BEGIN:VEVENT
DTSTART;TZID=Europe/Warsaw:20260807T100000
DTEND;TZID=Europe/Warsaw:20260809T150000
DTSTAMP:20260421T174330
CREATED:20260319T123540Z
LAST-MODIFIED:20260319T123540Z
UID:10000702-1786096800-1786287600@mazury-zachodnie.pl
SUMMARY:ZŁOTA TARKA 2026 | Iława!!!
DESCRIPTION:55. Międzynarodowy Festiwal Jazzu Tradycyjnego Old Jazz Meetong „Złota Tarka” odbędzie się w terminie 07-09 sierpnia 2026 r.\n\nZ radością informujemy\, że Patronat Honorowy nad 55. Międzynarodowy Festiwal Jazzu Tradycyjnego Old Jazz Meeting „Złota Tarka” w Iławie w Iława w 2026 roku obejmuje Narodowe Centrum Kultury\n\n\nTo potwierdzenie znaczenia tego wyjątkowego wydarzenia na mapie polskiej kultury i jazzu tradycyjnego.\n\n\nWarto dodać\, że w tym roku Narodowe Centrum Kultury świętuje jubileusz 75 lat działalności na rzecz kultury. Przez dekady zmieniały się nazwy instytucji\, struktury i narzędzia działania\, ale niezmienna pozostała misja – wspieranie tych\, którzy tworzą kulturę u podstaw.\n\n\nJuż dziś zapraszamy do Iławy na kolejną edycję festiwalu – będzie muzycznie\, klimatycznie i jazzowo.
URL:https://mazury-zachodnie.pl/en/wydarzenie/zlota-tarka-2026-ilawa/
LOCATION:Amfiteatr Miejski im. Lousia Amstronga w Iławie\, ul. Niepodległości 13a\, Iława\, 14-200\, Poland
CATEGORIES:Festiwal,Koncerty,spotkania
ATTACH;FMTTYPE=image/jpeg:https://mazury-zachodnie.pl/wp-content/uploads/2026/03/ZLOTA-SZMATKA.jpg
ORGANIZER;CN="I%C5%82awskie Centrum Kultury":MAILTO:sekretariat@ickilawa.pl
END:VEVENT
BEGIN:VEVENT
DTSTART;TZID=Europe/Warsaw:20260812T100000
DTEND;TZID=Europe/Warsaw:20260816T170000
DTSTAMP:20260421T174330
CREATED:20260319T124456Z
LAST-MODIFIED:20260319T125150Z
UID:10000703-1786528800-1786899600@mazury-zachodnie.pl
SUMMARY:CEV EuroBeachVolley 2026 Warmia Mazury- Hotel Anders | Stare Jabłonki
DESCRIPTION:EBV 2026 Warmia Mazury \n\nPO RAZ PIERWSZY W POLSCE!\nPo legendarnych Mistrzostwach Świata w 2013 roku\, Stare Jabłonki ponownie stają się światową stolicą siatkówki plażowej! W 2026 roku po raz pierwszy w historii gościmy Mistrzostwa Europy. \nCEV EuroBeachVolley 2026 Warmia Mazury to nie tylko turniej – to festiwal stylu życia\, który łączy sport na najwyższym poziomie z muzyką\, kuchnią i niepowtarzalną mazurską atmosferą. \n\nMała wioska\, wielka legenda. \nSpójrzcie na te zdjęcia – trudno uwierzyć\, że ta spokojna plaża w sercu mazurskich lasów już niedługo zamieni się w tętniącą życiem arenę CEV EuroBeachVolley 2026. Stare Jabłonki to miejsce magiczne. Tu czas płynie wolniej\, powietrze pachnie sosnowym lasem\, a jezioro daje ukojenie… aż do momentu\, gdy na piach wyjdą najlepsi zawodnicy Europy! \n\n\nTo właśnie ten kontrast między dziką naturą a profesjonalnym sportem sprawia\, że turnieje rozgrywane w Starych Jabłonkach nie mają sobie równych! Do zobaczenia w naszym mazurskim raju! \n\n\n A tiny village with a giant legend. \nTake a look at these views – it’s hard to believe that this peaceful beach\, tucked away in the heart of the Masurian forests\, will soon transform into the vibrant arena for CEV EuroBeachVolley 2026. Stare Jabłonki is a magical place. Here\, time slows down\, the air smells of pine trees\, and the lake offers pure serenity… until the best players in Europe hit the sand! \n\n\nIt’s this very contrast between wild nature and professional sport that makes tournaments held in Stare Jabłonki truly second to none! See you in our Masurian paradise! \n\n 
URL:https://mazury-zachodnie.pl/en/wydarzenie/cev-eurobeachvolley-2026-warmia-mazury-hotel-anders-stare-jablonki/
LOCATION:Hotel Anders\, ul. Spacerowa 2\, Stare Jabłonki\, Warmińsko-Mazurskie\, 14-133\, Poland
CATEGORIES:Konkursy,mecz,spotkania,Zawody
ATTACH;FMTTYPE=image/jpeg:https://mazury-zachodnie.pl/wp-content/uploads/2026/03/630839332_1355098909754497_5381731478644273536_n.jpg
ORGANIZER;CN="Hotel Anders":MAILTO:recepcja@hotelanders.pl
END:VEVENT
END:VCALENDAR