BEGIN:VCALENDAR
VERSION:2.0
PRODID:-//Mazury Zachodnie - ECPv6.15.20//NONSGML v1.0//EN
CALSCALE:GREGORIAN
METHOD:PUBLISH
X-WR-CALNAME:Mazury Zachodnie
X-ORIGINAL-URL:https://mazury-zachodnie.pl
X-WR-CALDESC:Wydarzenia dla Mazury Zachodnie
REFRESH-INTERVAL;VALUE=DURATION:PT1H
X-Robots-Tag:noindex
X-PUBLISHED-TTL:PT1H
BEGIN:VTIMEZONE
TZID:Europe/Warsaw
BEGIN:DAYLIGHT
TZOFFSETFROM:+0100
TZOFFSETTO:+0200
TZNAME:CEST
DTSTART:20250330T010000
END:DAYLIGHT
BEGIN:STANDARD
TZOFFSETFROM:+0200
TZOFFSETTO:+0100
TZNAME:CET
DTSTART:20251026T010000
END:STANDARD
BEGIN:DAYLIGHT
TZOFFSETFROM:+0100
TZOFFSETTO:+0200
TZNAME:CEST
DTSTART:20260329T010000
END:DAYLIGHT
BEGIN:STANDARD
TZOFFSETFROM:+0200
TZOFFSETTO:+0100
TZNAME:CET
DTSTART:20261025T010000
END:STANDARD
BEGIN:DAYLIGHT
TZOFFSETFROM:+0100
TZOFFSETTO:+0200
TZNAME:CEST
DTSTART:20270328T010000
END:DAYLIGHT
BEGIN:STANDARD
TZOFFSETFROM:+0200
TZOFFSETTO:+0100
TZNAME:CET
DTSTART:20271031T010000
END:STANDARD
END:VTIMEZONE
BEGIN:VEVENT
DTSTART;TZID=Europe/Warsaw:20260418T180000
DTEND;TZID=Europe/Warsaw:20260418T210000
DTSTAMP:20260421T185935
CREATED:20260218T074315Z
LAST-MODIFIED:20260218T074315Z
UID:10000684-1776535200-1776546000@mazury-zachodnie.pl
SUMMARY:DEZERTER | Koncert w Ostródzie!
DESCRIPTION:Ostróda 18.04.2026Sala Kameralna Amfiteatruwstęp 19:00 start: 20:00bilety → https://www.gart.agency/produkt/dezerter-45-lecie\nDEZERTER to zespół punkrockowy\, który powstał w Warszawie w maju 1981 r. Grupa przyjęła prowokacyjną wówczas nazwę SS-20 (pochodzącą od radzieckich rakiet z głowicami nuklearnymi)\, którą była zmuszona zmienić w okresie stanu wojennego. Już jako Dezerter zespół nagrał singiel „Ku przyszłości” (1983). W 1985 r. ukazały się dwie kompilacje z piosenkami Dezertera: „Fala” i „Jak punk to punk”. Rok 1987 przyniósł wydanie w USA przez Maximum Rock’n’Roll pierwszej długogrającej płyty Dezertera „Underground Out Of Poland” oraz pierwszej (ocenzurowanej) płyty w kraju – „Kolaboracja”. Rok 1989 to kolejny album – „Kolaboracja II”\, a 1990 – „Wszyscy przeciwko wszystkim” (wydana w Polsce i we Francji) oraz dwumiesięczna trasa po Europie Zachodniej (Szwajcaria\, Niemcy\, Francja\, Holandia) i Japonii.Kolejne lata działalności przyniosły ważne płyty dla polskiej sceny niezależnej\, m.in. „Blasfemię” (1992)\, „Ile procent duszy?” (1994)\, „Mam kły mam pazury” (1996)\, „Ziemia jest płaska” (1997). W XXI w. ukazały się trzy studyjne albumy: „Nielegalny zabójca czasu” (2004); „Prawo do bycia idiotą” (2010)\, który został doceniony nie tylko przez słuchaczy\, ale wyjątkowo również przez branżę muzyczną\, czego wyrazem była nagroda Fryderyk 2010; oraz „Większy zjada mniejszego” (2014). W 2016 r. po 33 latach został wznowiony singiel „Ku przyszłości”\, a w 2019 r. ukazał się premierowy minialbum „Nienawiść 100%”. Początek 2021 r. przyniósł premierową płytę „Kłamstwo to nowa prawda”\, która odbiła się szerokim echem w mediach i została bardzo dobrze przyjęta przez publiczność. Nowy album promowany jest utworem tytułowym i piosenką „Dzień dobry\, dzień zły”. W lipcu 2021 r. na festiwalu w Jarocinie Dezerter zagrał specjalny koncert z okazji 40-lecia działalności.Zespół aktywnie koncertuje nie tylko kraju\, ale również w wielu krajach Europy (Belgia\, Czechy\, Finlandia\, Francja\, Irlandia\, Niemcy\, Wielka Brytania) oraz w Stanach Zjednoczonych.Piosenki Dezertera znalazły się na wielu składankach oraz trafiły na ścieżki dźwiękowe kilku filmów (m.in. „Wałęsa. Człowiek z nadziei” w reż. A. Wajdy oraz „Dom zły” w reż. W. Smarzowskiego).\n2026 to 45-ty rok działalności zespołu Dezerter. Dezerter jednak nie patrzy za siebie\, tylko w przód. Dowodem tego jest najnowsza płyta „Wolny wybieg”. Premiera albumu już 13 lutego 2026.Podczas koncertu w Ostródzie będzie można na żywo usłyszeć zarówno doskonale znane utwory z bogatego dorobku zespołu jak i nowe kompozycje z najnowszego albumu.\nDEZERTER to:Robert Matera – gitara\, głos\, muzykaKrzysztof Grabowski – perkusja\, teksty\, artworkJacek Chrzanowski – bas\, głoshttps://www.dezerter.comhttps://www.youtube.com/user/DEZERTERTVhttps://www.facebook.com/Dezerter1981\ngoście:Monroe’s Mysterious Deathhttps://monroesmysteriousdeath.bandcamp.com\nKMKZhttps://www.kmkzband.plhttps://kmkzhc.bandcamp.comhttps://www.youtube.com/@kmkzhc
URL:https://mazury-zachodnie.pl/wydarzenie/dezerter-koncert-w-ostrodzie/
LOCATION:Amfiteatr w Ostródzie\, ul. Mickiewicza 17A\, Ostróda\, 14-100\, Poland
CATEGORIES:Koncerty,spotkania
ATTACH;FMTTYPE=image/jpeg:https://mazury-zachodnie.pl/wp-content/uploads/2026/02/dezerter.jpg
ORGANIZER;CN="Centrum Kultury w Ostr%C3%B3dzie":MAILTO:ck@ck.ostroda.pl
END:VEVENT
END:VCALENDAR